BEGIN:VCALENDAR
PRODID:-//eluceo/ical//2.0/EN
VERSION:2.0
CALSCALE:GREGORIAN
BEGIN:VEVENT
UID:2370df8e6daa2fa6f187b0059721ff9e
DTSTAMP:20260422T140124Z
SUMMARY:Benefizkonzert Rotaract Chur-Herrschaft
DESCRIPTION:Werke von Bach\, Scarlatti\, Schumann\, Elgar\, Debussy\, Enesc
 u und Poulenc\n\nModeration: Dr. sc. mus. Elisabeth Sigron Krausse\nWebsit
 e: http://www.rotaract-chur-herrschaft.ch\nSprekers: Klassische Musik\nDan
  Marginean (Preisgekrönter Pianist aus Rumänien) mit Abschluss des Royal
  College of Music\, London\nAlexandra Dobos Rodriguez (Sopranistin) und\n4
  Musikerinnen der Kammerphilharmon
URL:https://rotary-chur-herrschaft.ch/nl/agenda/show/61120
DTSTART;TZID=Europe/Zurich:20160422T191500
DTEND;TZID=Europe/Zurich:20160422T220000
LOCATION:GKB Auditorium Chur
CATEGORIES:Rotary
END:VEVENT
BEGIN:VTIMEZONE
TZID:Europe/Zurich
BEGIN:DAYLIGHT
DTSTART:20160422T191500
TZNAME:CEST
TZOFFSETTO:+0200
TZOFFSETFROM:+0200
END:DAYLIGHT
END:VTIMEZONE
END:VCALENDAR
