BEGIN:VCALENDAR
PRODID:-//eluceo/ical//2.0/EN
VERSION:2.0
CALSCALE:GREGORIAN
BEGIN:VEVENT
UID:d424e42a7f1b7b63baf8cdb1461f3f68
DTSTAMP:20260425T151943Z
SUMMARY:Plauderfrühstück
DESCRIPTION:
URL:https://rotary-chur-herrschaft.ch/it/agenda/show/82587
DTSTART;TZID=Europe/Zurich:20180607T000000
DTEND;TZID=Europe/Zurich:20180607T000000
LOCATION:Hotel Stern
CATEGORIES:Rotary
END:VEVENT
BEGIN:VTIMEZONE
TZID:Europe/Zurich
BEGIN:DAYLIGHT
DTSTART:20180607T000000
TZNAME:CEST
TZOFFSETTO:+0200
TZOFFSETFROM:+0200
END:DAYLIGHT
END:VTIMEZONE
END:VCALENDAR
