BEGIN:VCALENDAR
PRODID:-//eluceo/ical//2.0/EN
VERSION:2.0
CALSCALE:GREGORIAN
BEGIN:VEVENT
UID:26f4e8adcaa941585583084b6412f307
DTSTAMP:20260423T004509Z
SUMMARY:Kinderspieltag 2016
DESCRIPTION:Der Rotary Club Chur-Herrschaft\, Rotaract Chur-Herrschaft und 
 Pro Juventute Graubünden laden zum Kinderspieltag in Chur ein. Der Anla
 ss wird bereits zum 16. mal durchgeführt und begeistert Jung und Alt. Kin
 der erleben einen Tag mit Spiel und Spass auf der Quaderwiese in Chur. Dan
 eben unterhalten ausgewählte Künstler die Kinder während dem ganzen Tag
  im Festzelt. Auch für Speiss und Trank ist gesorgt.\n\nDer Eintritt ist 
 gratis.\n\nWir freuen uns über viele Besucher. Jeder ist willkommen.\nSit
 o web: http://www.kinderspieltag.ch\nRelatore/i: 16. Kinderspieltag mit za
 hlreichen Referenten
URL:https://rotary-chur-herrschaft.ch/it/agenda/show/62710
DTSTART;TZID=Europe/Zurich:20160702T100000
DTEND;TZID=Europe/Zurich:20160702T170000
LOCATION:Quaderwiese Chur
CATEGORIES:Rotary
END:VEVENT
BEGIN:VTIMEZONE
TZID:Europe/Zurich
BEGIN:DAYLIGHT
DTSTART:20160702T100000
TZNAME:CEST
TZOFFSETTO:+0200
TZOFFSETFROM:+0200
END:DAYLIGHT
END:VTIMEZONE
END:VCALENDAR
