BEGIN:VCALENDAR
PRODID:-//eluceo/ical//2.0/EN
VERSION:2.0
CALSCALE:GREGORIAN
BEGIN:VEVENT
UID:415f5d16c4e39c7432529d8cfe7d03fc
DTSTAMP:20260419T134355Z
SUMMARY:Besuch der Hotelfachschule in Passugg
DESCRIPTION:Programm:\n\n19.00 Uhr - ca. 20.15 Uhr : Begrüssung\, Apèro\
 , Einführung\, Kurzreferate VRP Dr. Jürg Domenig und CEO Michael Hartman
 n und Rundgang durch die Swiss School of Tourism and Hospitality\n\nca. 20
 .15 Uhr: Nachtessen (Ende ca. 22.15 Uhr)\nKosten: ca. CHF 70.00 / Person (
 sind direkt vor Ort zu bezahlen)
URL:https://rotary-chur-herrschaft.ch/bs/agenda/show/75911
DTSTART;TZID=Europe/Zurich:20170831T190000
DTEND;TZID=Europe/Zurich:20170831T190000
LOCATION:Passugg
CATEGORIES:Rotary
END:VEVENT
BEGIN:VTIMEZONE
TZID:Europe/Zurich
BEGIN:DAYLIGHT
DTSTART:20170831T190000
TZNAME:CEST
TZOFFSETTO:+0200
TZOFFSETFROM:+0200
END:DAYLIGHT
END:VTIMEZONE
END:VCALENDAR
