BEGIN:VCALENDAR
PRODID:-//eluceo/ical//2.0/EN
VERSION:2.0
CALSCALE:GREGORIAN
BEGIN:VEVENT
UID:394ba2f4f22b83b5c68821c9714950e6
DTSTAMP:20260423T091812Z
SUMMARY:UT AG wer wir sind 
DESCRIPTION:Govornik(ci): Andrea Casanova (Geschäftsführer) 
URL:https://rotary-chur-herrschaft.ch/bs/agenda/show/72434
DTSTART;TZID=Europe/Zurich:20170518T121500
DTEND;TZID=Europe/Zurich:20170518T121500
LOCATION:Hotel Stern
CATEGORIES:Rotary
END:VEVENT
BEGIN:VTIMEZONE
TZID:Europe/Zurich
BEGIN:DAYLIGHT
DTSTART:20170518T121500
TZNAME:CEST
TZOFFSETTO:+0200
TZOFFSETFROM:+0200
END:DAYLIGHT
END:VTIMEZONE
END:VCALENDAR
